BEGIN:VCALENDAR
VERSION:2.0
PRODID:-//wp-events-plugin.com//5.99912//EN
TZID:Europe/Berlin
X-WR-TIMEZONE:Europe/Berlin
BEGIN:VEVENT
UID:0-499@blaubeuren.albverein.eu
DTSTART;TZID=Europe/Berlin;VALUE=DATE:20260515
DTEND;TZID=Europe/Berlin;VALUE=DATE:20260516
DTSTAMP:20260422T165041Z
URL:https://blaubeuren.albverein.eu/events/feierabendrunde/
SUMMARY:Feierabendrunde
DESCRIPTION:Treffpunkt\n17:00 Uhr\, Güterbahnhof\, Blaubeuren\n\nRundwande
 rung vom Güterbahnhof Blaubeuren hinauf auf den Barmen und zurück. Dauer
  ca. 1 Stunde\n\nInformation\nAlexandra Gabler\nTelefon 0160 6376208
END:VEVENT
BEGIN:VTIMEZONE
TZID:Europe/Berlin
X-LIC-LOCATION:Europe/Berlin
BEGIN:DAYLIGHT
DTSTART:20260329T030000
TZOFFSETFROM:+0100
TZOFFSETTO:+0200
TZNAME:CEST
END:DAYLIGHT
END:VTIMEZONE
END:VCALENDAR